BEGIN:VCALENDAR
VERSION:2.0
PRODID:-//Δήμος Λατσιών - Γερίου - ECPv6.15.20//NONSGML v1.0//EN
CALSCALE:GREGORIAN
METHOD:PUBLISH
X-ORIGINAL-URL:https://latsia-geri.eu
X-WR-CALDESC:Events for Δήμος Λατσιών - Γερίου
REFRESH-INTERVAL;VALUE=DURATION:PT1H
X-Robots-Tag:noindex
X-PUBLISHED-TTL:PT1H
BEGIN:VTIMEZONE
TZID:Asia/Nicosia
BEGIN:DAYLIGHT
TZOFFSETFROM:+0200
TZOFFSETTO:+0300
TZNAME:EEST
DTSTART:20240331T010000
END:DAYLIGHT
BEGIN:STANDARD
TZOFFSETFROM:+0300
TZOFFSETTO:+0200
TZNAME:EET
DTSTART:20241027T010000
END:STANDARD
BEGIN:DAYLIGHT
TZOFFSETFROM:+0200
TZOFFSETTO:+0300
TZNAME:EEST
DTSTART:20250330T010000
END:DAYLIGHT
BEGIN:STANDARD
TZOFFSETFROM:+0300
TZOFFSETTO:+0200
TZNAME:EET
DTSTART:20251026T010000
END:STANDARD
BEGIN:DAYLIGHT
TZOFFSETFROM:+0200
TZOFFSETTO:+0300
TZNAME:EEST
DTSTART:20260329T010000
END:DAYLIGHT
BEGIN:STANDARD
TZOFFSETFROM:+0300
TZOFFSETTO:+0200
TZNAME:EET
DTSTART:20261025T010000
END:STANDARD
BEGIN:DAYLIGHT
TZOFFSETFROM:+0200
TZOFFSETTO:+0300
TZNAME:EEST
DTSTART:20270328T010000
END:DAYLIGHT
BEGIN:STANDARD
TZOFFSETFROM:+0300
TZOFFSETTO:+0200
TZNAME:EET
DTSTART:20271031T010000
END:STANDARD
END:VTIMEZONE
BEGIN:VEVENT
DTSTART;TZID=Asia/Nicosia:20251112T193000
DTEND;TZID=Asia/Nicosia:20251112T193000
DTSTAMP:20260425T184430
CREATED:20251023T104020Z
LAST-MODIFIED:20251023T104535Z
UID:10000087-1762975800-1762975800@latsia-geri.eu
SUMMARY:« Επανάσταση του Ρε Αλέξη» Παρουσίαση στις 12 Νοεμβρίου 2025
DESCRIPTION:📢 ΑΝΑΚΟΙΝΩΣΗ \nΟ Δήμος Λατσιών – Γερίου και η Επιτροπή Προβολής της «Επανάστασης του Ρε Αλέξη» σας προσκαλούν σε εκδήλωση αφιερωμένη στην ιστορική αυτή μορφή και την εξέγερσή του ενάντια στους Φράγκους. \n🗓 Τετάρτη 12 Νοεμβρίου 2025\n🕢 Ώρα Έναρξης: 19:30\n📍 Αίθουσα Εκδηλώσεων Διαμερίσματος Γερίου \nΗ εκδήλωση περιλαμβάνει: \n\nΧαιρετισμό από τον Δήμαρχο Λατσιών – Γερίου κ. Χρίστο Πιτταρά\nΠροβολή αποσπάσματος από το ντοκιμαντέρ για την επανάσταση του Ρε Αλέξη\nΠαρουσίαση της δράσης της Επιτροπής από τη Στέλλα Ιωάννου\nΟμιλία από τον Πολιτικό Επιστήμονα κ. Χαράλαμπο Αριστοτέλους\nΚαλλιτεχνικό πρόγραμμα\nΔεξίωση\n\n🎨 Στον χώρο θα εκτίθενται έργα εικαστικών καλλιτεχνών εμπνευσμένα από την επανάσταση. \n📌 Για κρατήσεις θέσεων\, παρακαλούμε όπως επικοινωνήσετε μέχρι τις 10 Νοεμβρίου 2025 στα τηλέφωνα: 22367989 / 22878791
URL:https://latsia-geri.eu/event/epanastasi-tou-re-alexi-parousiasi-stis-12-noemvriou-2025/
LOCATION:ΑΙΘΟΥΣΑ ΕΚΔΗΛΩΣΕΩΝ ΔΙΑΜΕΡΙΣΜΑΤΟΣ ΓΕΡΙΟΥ
CATEGORIES:Εκδηλώσεις,Εκδηλώσεις Δήμου
ATTACH;FMTTYPE=image/jpeg:https://latsia-geri.eu/wp-content/uploads/2025/10/23102025.jpg
END:VEVENT
BEGIN:VEVENT
DTSTART;TZID=Asia/Nicosia:20251125T173000
DTEND;TZID=Asia/Nicosia:20251125T213000
DTSTAMP:20260425T184430
CREATED:20251104T080709Z
LAST-MODIFIED:20251104T080709Z
UID:10000088-1764091800-1764106200@latsia-geri.eu
SUMMARY:Δημοτική Αιμοδοσία διαμερίσματος Λατσιών\, Τρίτη 25 Νοεμβρίου 2025
DESCRIPTION:Η Δημοτική Αιμοδοσία Διαμερίσματος Λατσιών\, θα πραγματοποιηθεί την Τρίτη 25 Νοεμβρίου 2025\, από τις 5:30 μ.μ. έως τις 9:30 μ.μ.\, στο Δημαρχείο Λατσιών-Γερίου. \nΤο κεντρικό σύνθημα είναι «Δώστε αίμα – σώστε ζωές»\, τονίζοντας τη σημασία της εθελοντικήςαιμοδοσίας και της προσφοράς προς τον συνάνθρωπο.\nΗ εκδήλωση διοργανώνεται από τον Δήμο Λατσιών-Γερίου και το Δημοτικό Συμβούλιο Νεολαίας του δήμου.\nΠρόκειται για μια πρωτοβουλία κοινωνικής αλληλεγγύης που στοχεύει στην ενίσχυση των αποθεμάτων αίματος και στην ευαισθητοποίηση του κοινού για τη σημασία της εθελοντικής αιμοδοσίας.\nΗ δράση αυτή δίνει την ευκαιρία στους δημότες να συμβάλουν έμπρακτα στη στήριξη ασθενών που έχουν ανάγκη\, προωθώντας ταυτόχρονα το μήνυμα της αλληλεγγύης και της ανθρωπιάς στην τοπική κοινωνία.
URL:https://latsia-geri.eu/event/dimotiki-aimodosia-diamerismatos-latsion-triti-25-noemvriou-2025/
LOCATION:ΔΗΜΑΡΧΕΙΟ ΛΑΤΣΙΩΝ-ΓΕΡΙΟΥ\, Giannou Kranidioti 57\, Latsia 2235\, Cyprus\, Nicosia\, Cyprus
CATEGORIES:Εκδηλώσεις,Εκδηλώσεις Δήμου
ATTACH;FMTTYPE=image/jpeg:https://latsia-geri.eu/wp-content/uploads/2025/11/2025-11-25-AIMODOSIA-DIAM.-LATSION.jpg
END:VEVENT
BEGIN:VEVENT
DTSTART;TZID=Asia/Nicosia:20251214T140000
DTEND;TZID=Asia/Nicosia:20251214T200000
DTSTAMP:20260425T184430
CREATED:20251124T080713Z
LAST-MODIFIED:20251124T080713Z
UID:10000090-1765720800-1765742400@latsia-geri.eu
SUMMARY:Χριστουγεννιάτικη εκδήλωση Δήμου Λατσιών-Γερίου\, Κυριακή 14 Δεκεμβρίου 2025
DESCRIPTION:Λεωφόρος Χριστουγέννων – Μεγάλη Γιορτή! \nΟ Δήμος Λατσιών – Γερίου σας προσκαλεί στη χριστουγεννιάτικη εκδήλωση που θα πραγματοποιηθεί την Κυριακή 14 Δεκεμβρίου 2025\, στο προαύλιο των τοπικών γραφείων Διαμ. Γερίου\, από 2:00 μ.μ. έως 8:00 μ.μ. \nΜεγάλη συναυλία με τους καλλιτέχνες Κέλλυ Κελεκίδου και Γιώργο Παπαδόπουλο\, \nΠαιδική θεατρική παράσταση «Το Κλειδί των Χριστουγέννων» Αίθουσα εκδηλώσεων διαμ. Γερίου\, \nΦουσκωτά\, face painting\, χριστουγεννιάτικες φιγούρες & Άη Βασίλης \nΦαγητό\, ποτά & κατασκευές προς πώληση \nΧορηγός επικοινωνίας: Zenith 96.4 FM – Ζωντανή μετάδοση 3:00–5:00 μ.μ. \n \n 
URL:https://latsia-geri.eu/event/christougenniatiki-ekdilosi-dimou-latsion-geriou-kyriaki-14-dekemvriou-2025/
LOCATION:ΠΡΟΑΥΛΙΟ ΤΟΠΙΚΩΝ ΓΡΑΦΕΙΩΝ ΔΙΑΜ. ΓΕΡΙΟΥ\, Cyprus
CATEGORIES:Εκδηλώσεις,Εκδηλώσεις Δήμου
ATTACH;FMTTYPE=image/jpeg:https://latsia-geri.eu/wp-content/uploads/2025/11/2025-12-14-LEOFOROS-CHRISTOYGENNON.jpg
END:VEVENT
BEGIN:VEVENT
DTSTART;TZID=Asia/Nicosia:20251229T183000
DTEND;TZID=Asia/Nicosia:20251229T210000
DTSTAMP:20260425T184430
CREATED:20251223T102341Z
LAST-MODIFIED:20251223T102459Z
UID:10000092-1767033000-1767042000@latsia-geri.eu
SUMMARY:«Ο Δήμος Λατσιών–Γερίου σε προσκαλεί στη Δημοτική Αιμοδοσία 29-12-2025»
DESCRIPTION:🩸 Δώσε αίμα – σώσε ζωές! ❤️ \nΟ Δήμος Λατσιών–Γερίου σε προσκαλεί στη Δημοτική Εθελοντική Αιμοδοσία\n📅 Δευτέρα 29/12/2025\n⏰ 6:30 μ.μ. – 9:00 μ.μ.\n📍 Αίθουσα Εκδηλώσεων Διαμερίσματος Γερίου \nΜε λίγα λεπτά από τον χρόνο σου μπορείς να χαρίσεις ελπίδα και ζωή σε συνανθρώπους μας.\nΈλα κι εσύ – η συμμετοχή σου μετράει! 🙏 \n#Αιμοδοσία #ΔώσεΑίμα #ΣώσεΖωές #ΔήμοςΛατσιώνΓερίου
URL:https://latsia-geri.eu/event/o-dimos-latsion-geriou-se-proskalei-sti-dimotiki-aimodosia-29-12-2025/
LOCATION:ΑΙΘΟΥΣΑ ΕΚΔΗΛΩΣΕΩΝ ΔΙΑΜΕΡΙΣΜΑΤΟΣ ΓΕΡΙΟΥ
CATEGORIES:Εκδηλώσεις,Εκδηλώσεις Δήμου
ATTACH;FMTTYPE=image/jpeg:https://latsia-geri.eu/wp-content/uploads/2025/12/2025-12-29-DHMOTIKH-AIMODOSIA-DIAM.-GERIOY.jpg
END:VEVENT
BEGIN:VEVENT
DTSTART;TZID=Asia/Nicosia:20260110T110000
DTEND;TZID=Asia/Nicosia:20260110T140000
DTSTAMP:20260425T184430
CREATED:20251229T135416Z
LAST-MODIFIED:20251229T135416Z
UID:10000093-1768042800-1768053600@latsia-geri.eu
SUMMARY:Δεντροφύτευση που διοργανώνεται στο πλαίσιο του ευρωπαϊκού έργου Streets for Citizens\,10 Ιανουαρίου 2026
DESCRIPTION:Αγαπητοί/ές \nΣας προσκαλούμε να συμμετάσχετε στη δράση δεντροφύτευσης που διοργανώνεται στο πλαίσιο του ευρωπαϊκού έργου Streets for Citizens\, σε συνεργασία με την Αναπτυξιακή Εταιρεία Λευκωσίας  (ΑΝΕΛ) και το SURF Lab του Πανεπιστημίου Κύπρου. \nΗ δράση θα πραγματοποιηθεί:\nΗμερομηνία: Σάββατο\, 10 Ιανουαρίου 2026\nΏρα: 11:00 π.μ. – 2:00 μ.μ.\nΤοποθεσία: Δημόσιος χώρος δίπλα από το Κέντρο Υγείας Λατσιών \nΗ συμμετοχή σας θα συμβάλει στην ενίσχυση των δημόσιων χώρων της κοινότητάς μας και στην προώθηση ενός πιο πράσινου και βιώσιμου περιβάλλοντος για όλους. \nΠαρακαλούμε όπως μας ενημερώσετε για τη συμμετοχή σας ώστε να οργανωθεί κατάλληλα η δράση.
URL:https://latsia-geri.eu/event/dentrofytefsi-pou-diorganonetai-sto-plaisio-tou-evropaikou-ergou-streets-for-citizens10-ianouariou-2026/
LOCATION:Δημόσιος χώρος δίπλα από το Κέντρο Υγείας Λατσιών\, Λευκωσία\, Λατσιά\, Cyprus
CATEGORIES:Εκδηλώσεις,Εκδηλώσεις Δήμου
ATTACH;FMTTYPE=image/jpeg:https://latsia-geri.eu/wp-content/uploads/2025/12/PShfiakh-prosklhsh.jpg
END:VEVENT
BEGIN:VEVENT
DTSTART;TZID=Asia/Nicosia:20260119T190000
DTEND;TZID=Asia/Nicosia:20260119T190000
DTSTAMP:20260425T184430
CREATED:20260109T125426Z
LAST-MODIFIED:20260109T125436Z
UID:10000094-1768849200-1768849200@latsia-geri.eu
SUMMARY:Πανδημοτική Συγκέντρωση – Αναθεώρηση Τοπικού Σχεδίου Λευκωσίας 19-1-2026
DESCRIPTION:📢 Πανδημοτική Συγκέντρωση – Αναθεώρηση Τοπικού Σχεδίου Λευκωσίας \nΟ Δήμος Λατσιών–Γερίου καλεί όλους τους δημότες σε ανοικτή συγκέντρωση ενημέρωσης και διαλόγου\, ενόψει της διαδικασίας αναθεώρησης του Τοπικού Σχεδίου Λευκωσίας. \n📍 Δημοτικό Θέατρο Λατσιών\n🕖 Ώρα: 19:00\n📅 Ημερομηνία: 19/01/2026 \nΗ παρουσία και η άποψή σας είναι σημαντική.
URL:https://latsia-geri.eu/event/pandimotiki-sygkentrosi-anatheorisi-topikou-schediou-lefkosias-19-1-2026/
LOCATION:Δημοτικό Θέατρο Λατσιών\, Nicosia\, Latsia\, 2220\, Cyprus
CATEGORIES:Εκδηλώσεις,Εκδηλώσεις Δήμου
ATTACH;FMTTYPE=image/jpeg:https://latsia-geri.eu/wp-content/uploads/2026/01/2026-1-19-PANDHMOTIKH-GIA-TO-TOPIKO-SCHEDIO.jpg
END:VEVENT
BEGIN:VEVENT
DTSTART;TZID=Asia/Nicosia:20260218T080000
DTEND;TZID=Asia/Nicosia:20260218T143000
DTSTAMP:20260425T184430
CREATED:20260213T121016Z
LAST-MODIFIED:20260216T072140Z
UID:10000098-1771401600-1771425000@latsia-geri.eu
SUMMARY:Δειγματοληψία για εγγραφή δοτών μυελού των οστών\, 18-2-2026
DESCRIPTION:📢 Δειγματοληψία για εγγραφή δοτών μυελού των οστών \nΟ Δήμος Λατσιών – Γερίου διοργανώνει δειγματοληψία για συνδημότη μας που έχει ανάγκη. \n📅 Τετάρτη 18/02/2026\n📍 Δημαρχείο Λατσιών – Γερίου\n(Λεωφ. Γιάννου Κρανιδιώτη 57) \n🕗 Ώρες δειγματοληψίας:\n08:00 – 14:30 & 16:00 – 20:00 \n🔸 Ηλικίες: 18 – 45 ετών \nΜόλις 5 λεπτά από τον χρόνο σου μπορούν να χαρίσουν ζωή σε έναν συνάνθρωπό μας. ❤️ \nΓίνε δότης μυελού των οστών.\nΔώσε ελπίδα. Δώσε ζωή.
URL:https://latsia-geri.eu/event/deigmatolipsia-gia-engrafi-doton-myelou-ton-oston-18-2-2026/2026-02-18/1/
LOCATION:ΔΗΜΑΡΧΕΙΟ ΛΑΤΣΙΩΝ-ΓΕΡΙΟΥ\, Giannou Kranidioti 57\, Latsia 2235\, Cyprus\, Nicosia\, Cyprus
CATEGORIES:Εκδηλώσεις,Εκδηλώσεις Δήμου
ATTACH;FMTTYPE=image/jpeg:https://latsia-geri.eu/wp-content/uploads/2026/02/2026-2-18-DEIGMATOLHPSIA-MYELOY-TON-OSTON.jpg
END:VEVENT
BEGIN:VEVENT
DTSTART;TZID=Asia/Nicosia:20260218T160000
DTEND;TZID=Asia/Nicosia:20260218T200000
DTSTAMP:20260425T184430
CREATED:20260213T121016Z
LAST-MODIFIED:20260216T072140Z
UID:10000099-1771430400-1771444800@latsia-geri.eu
SUMMARY:Δειγματοληψία για εγγραφή δοτών μυελού των οστών\, 18-2-2026
DESCRIPTION:📢 Δειγματοληψία για εγγραφή δοτών μυελού των οστών \nΟ Δήμος Λατσιών – Γερίου διοργανώνει δειγματοληψία για συνδημότη μας που έχει ανάγκη. \n📅 Τετάρτη 18/02/2026\n📍 Δημαρχείο Λατσιών – Γερίου\n(Λεωφ. Γιάννου Κρανιδιώτη 57) \n🕗 Ώρες δειγματοληψίας:\n08:00 – 14:30 & 16:00 – 20:00 \n🔸 Ηλικίες: 18 – 45 ετών \nΜόλις 5 λεπτά από τον χρόνο σου μπορούν να χαρίσουν ζωή σε έναν συνάνθρωπό μας. ❤️ \nΓίνε δότης μυελού των οστών.\nΔώσε ελπίδα. Δώσε ζωή.
URL:https://latsia-geri.eu/event/deigmatolipsia-gia-engrafi-doton-myelou-ton-oston-18-2-2026/2026-02-18/2/
LOCATION:ΔΗΜΑΡΧΕΙΟ ΛΑΤΣΙΩΝ-ΓΕΡΙΟΥ\, Giannou Kranidioti 57\, Latsia 2235\, Cyprus\, Nicosia\, Cyprus
CATEGORIES:Εκδηλώσεις,Εκδηλώσεις Δήμου
ATTACH;FMTTYPE=image/jpeg:https://latsia-geri.eu/wp-content/uploads/2026/02/2026-2-18-DEIGMATOLHPSIA-MYELOY-TON-OSTON.jpg
END:VEVENT
BEGIN:VEVENT
DTSTART;TZID=Asia/Nicosia:20260228T100000
DTEND;TZID=Asia/Nicosia:20260228T100000
DTSTAMP:20260425T184430
CREATED:20260219T111655Z
LAST-MODIFIED:20260219T111703Z
UID:10000100-1772272800-1772272800@latsia-geri.eu
SUMMARY:2η Δενδροφύτευση στον Δήμο Λατσιών-Γερίου\, Σάββατο 28-2-2026
DESCRIPTION:🌿 ΜΗΝΑΣ ΔΕΝΔΡΟΦΥΤΕΥΣΕΩΝ 🌿 \nΟ Δήμος Λατσιών-Γερίου σας προσκαλεί να συμμετάσχετε σε δράση δενδροφύτευσης που θα πραγματοποιηθεί στον χώρο πρασίνου επί της οδού Ταϋγέτου\, στα Λατσιά (πλησίον Λυκείου Λατσιών). \n📅 Σάββατο\, 28 Φεβρουαρίου 2026\n🕙 Ώρα: 10:00 π.μ. \nΜε στόχο την ενίσχυση του αστικού πρασίνου και την αναβάθμιση της ποιότητας ζωής στην περιοχή μας\, ενώνουμε τις δυνάμεις μας και φυτεύουμε το μέλλον της πόλης μας! \nΗ συμμετοχή όλων είναι πολύτιμη. Μικροί και μεγάλοι μπορούν να συμβάλουν σε αυτή την όμορφη πρωτοβουλία για ένα πιο πράσινο και βιώσιμο περιβάλλον. \nΣας περιμένουμε! 🌱
URL:https://latsia-geri.eu/event/2i-dendrofytefsi-ston-dimo-latsion-geriou-savvato-28-2-2026/
LOCATION:Latsia
CATEGORIES:Εκδηλώσεις,Εκδηλώσεις Δήμου
ATTACH;FMTTYPE=image/jpeg:https://latsia-geri.eu/wp-content/uploads/2026/02/2026-2-28-DENTROFYTEYSH.jpg
END:VEVENT
END:VCALENDAR