BEGIN:VCALENDAR
VERSION:2.0
PRODID:-//Δήμος Λατσιών - Γερίου - ECPv6.15.20//NONSGML v1.0//EN
CALSCALE:GREGORIAN
METHOD:PUBLISH
X-ORIGINAL-URL:https://latsia-geri.eu
X-WR-CALDESC:Events for Δήμος Λατσιών - Γερίου
REFRESH-INTERVAL;VALUE=DURATION:PT1H
X-Robots-Tag:noindex
X-PUBLISHED-TTL:PT1H
BEGIN:VTIMEZONE
TZID:Asia/Nicosia
BEGIN:DAYLIGHT
TZOFFSETFROM:+0200
TZOFFSETTO:+0300
TZNAME:EEST
DTSTART:20240331T010000
END:DAYLIGHT
BEGIN:STANDARD
TZOFFSETFROM:+0300
TZOFFSETTO:+0200
TZNAME:EET
DTSTART:20241027T010000
END:STANDARD
BEGIN:DAYLIGHT
TZOFFSETFROM:+0200
TZOFFSETTO:+0300
TZNAME:EEST
DTSTART:20250330T010000
END:DAYLIGHT
BEGIN:STANDARD
TZOFFSETFROM:+0300
TZOFFSETTO:+0200
TZNAME:EET
DTSTART:20251026T010000
END:STANDARD
BEGIN:DAYLIGHT
TZOFFSETFROM:+0200
TZOFFSETTO:+0300
TZNAME:EEST
DTSTART:20260329T010000
END:DAYLIGHT
BEGIN:STANDARD
TZOFFSETFROM:+0300
TZOFFSETTO:+0200
TZNAME:EET
DTSTART:20261025T010000
END:STANDARD
END:VTIMEZONE
BEGIN:VEVENT
DTSTART;TZID=Asia/Nicosia:20250626T203000
DTEND;TZID=Asia/Nicosia:20250626T203000
DTSTAMP:20260425T062004
CREATED:20250618T114629Z
LAST-MODIFIED:20250618T114909Z
UID:10000073-1750969800-1750969800@latsia-geri.eu
SUMMARY:Θερινός Κινηματογράφος 2025
DESCRIPTION:
URL:https://latsia-geri.eu/event/therinos-kinimatografos-2025-2-2-5/
CATEGORIES:Εκδηλώσεις,Εκδηλώσεις Δήμου
ATTACH;FMTTYPE=image/jpeg:https://latsia-geri.eu/wp-content/uploads/2025/06/2025-6-26.jpg
END:VEVENT
BEGIN:VEVENT
DTSTART;TZID=Asia/Nicosia:20250611T193000
DTEND;TZID=Asia/Nicosia:20250611T193000
DTSTAMP:20260425T062004
CREATED:20250605T120301Z
LAST-MODIFIED:20250605T124936Z
UID:10000068-1749670200-1749670200@latsia-geri.eu
SUMMARY:Επίδειξη μόδας από Ε.Ο.Μ.\, Τετάρτη 11 Ιουνίου 2025
DESCRIPTION:
URL:https://latsia-geri.eu/event/epideixi-modas-apo-e-o-m-tetarti-11-iouniou-2025/
LOCATION:Δημοτικό Μέγαρο Λατσιών
CATEGORIES:Εκδηλώσεις,Εκδηλώσεις Δήμου
ATTACH;FMTTYPE=image/jpeg:https://latsia-geri.eu/wp-content/uploads/2025/06/2025-6-11-EPIDEIXH-MODAS-APO-E.O.M.jpg
END:VEVENT
BEGIN:VEVENT
DTSTART;TZID=Asia/Nicosia:20250610T200000
DTEND;TZID=Asia/Nicosia:20250610T200000
DTSTAMP:20260425T062004
CREATED:20250516T103142Z
LAST-MODIFIED:20250516T103301Z
UID:10000066-1749585600-1749585600@latsia-geri.eu
SUMMARY:Θεατρική παράσταση ΚΑΣΤΙΓΝΚ ΑΛΑ….. ΚΟΥΤΟΥΡΟΥ!!\, Τρίτη 10 Ιουνίου 2025
DESCRIPTION:
URL:https://latsia-geri.eu/event/theatriki-parastasi-kastignk-ala-koutourou-triti-10-iouniou-2025/
LOCATION:Δημοτικό Θέατρο Λατσιών\, Nicosia\, Latsia\, 2220\, Cyprus
CATEGORIES:Εκδηλώσεις,Εκδηλώσεις Δήμου
ATTACH;FMTTYPE=image/jpeg:https://latsia-geri.eu/wp-content/uploads/2025/05/2025-6-10-THEATRIKH-OMADA-ELHAS-LYTHRODONTA.jpg
END:VEVENT
BEGIN:VEVENT
DTSTART;TZID=Asia/Nicosia:20250530T170000
DTEND;TZID=Asia/Nicosia:20250530T210000
DTSTAMP:20260425T062004
CREATED:20250522T075451Z
LAST-MODIFIED:20250522T075451Z
UID:10000067-1748624400-1748638800@latsia-geri.eu
SUMMARY:«Εκδήλωση αφιερωμένη στα παιδιά\,  Παρασκευή 30 Μαΐου 2025»
DESCRIPTION:
URL:https://latsia-geri.eu/event/ekdilosi-afieromeni-sta-paidia-paraskevi-30-maiou-2025/
LOCATION:Δημοτικό Στάδιο Λατσιών
CATEGORIES:Εκδηλώσεις Δήμου
ATTACH;FMTTYPE=image/jpeg:https://latsia-geri.eu/wp-content/uploads/2025/05/2025-5-30-FYLLADIO-GIA-THN-GIORTH-TOY-PAIDIOY.jpg
END:VEVENT
BEGIN:VEVENT
DTSTART;TZID=Asia/Nicosia:20250523T170000
DTEND;TZID=Asia/Nicosia:20250523T193000
DTSTAMP:20260425T062004
CREATED:20250514T110911Z
LAST-MODIFIED:20250516T105117Z
UID:10000065-1748019600-1748028600@latsia-geri.eu
SUMMARY:Εξερευνούμε τη γειτονιά μας\, βελτιώνουμε τον δημόσιο χώρο\, έχουμε λόγο! «Εξερευνούμε τη γειτονιά μας\, βελτιώνουμε τον δημόσιο χώρο\, έχουμε λόγο!\, 23 Μαΐου 2025»
DESCRIPTION:
URL:https://latsia-geri.eu/event/exerevnoume-ti-geitonia-mas-veltionoume-ton-dimosio-choro-echoume-logo-exerevnoume-ti-geitonia-mas-veltionoume-ton-dimosio-choro-echoume-logo-23-maiou-2025/
LOCATION:Καποδιστριακό\, Ευαγόρα Παλληκαρίδη6\, Λευκωσία\, Λατσιά\, 2235\, Cyprus
CATEGORIES:Εκδηλώσεις,Εκδηλώσεις Δήμου
ATTACH;FMTTYPE=image/jpeg:https://latsia-geri.eu/wp-content/uploads/2025/05/2025-5-23-Schediazoyme-mazi-ton-dhmosio-choro-kai-beltionoyme-th-geitonia-mas.jpg
END:VEVENT
BEGIN:VEVENT
DTSTART;TZID=Asia/Nicosia:20250504T200000
DTEND;TZID=Asia/Nicosia:20250504T200000
DTSTAMP:20260425T062004
CREATED:20250411T071920Z
LAST-MODIFIED:20250416T121408Z
UID:10000060-1746388800-1746388800@latsia-geri.eu
SUMMARY:Θεατρική παράσταση "BLACK MONEY" από Παράβαση Λυμπιών\, Κυριακή 4 Μαΐου 2025
DESCRIPTION:
URL:https://latsia-geri.eu/event/theatriki-parastasi-black-money-apo-paravasi-lybion-kyriaki-4-maiou-2025/
LOCATION:Δημοτικό Θέατρο Λατσιών – Γερίου\, Nicosia\, Cyprus
CATEGORIES:Εκδηλώσεις,Εκδηλώσεις Δήμου
ATTACH;FMTTYPE=image/jpeg:https://latsia-geri.eu/wp-content/uploads/2025/04/A3-BLACK-MONEY.jpg
END:VEVENT
BEGIN:VEVENT
DTSTART;TZID=Asia/Nicosia:20250412T200000
DTEND;TZID=Asia/Nicosia:20250412T200000
DTSTAMP:20260425T062004
CREATED:20250407T073500Z
LAST-MODIFIED:20250416T122638Z
UID:10000057-1744488000-1744488000@latsia-geri.eu
SUMMARY:Θεατρική παράσταση "Το Γατάνιν" από τον ΘΟΚ Σάββατο 12 Απριλίου 2025
DESCRIPTION:
URL:https://latsia-geri.eu/event/theatriki-parastasi-to-gatanin-apo-ton-thok-savvato-12-apriliou-2025/
CATEGORIES:Εκδηλώσεις,Εκδηλώσεις Δήμου
ATTACH;FMTTYPE=image/jpeg:https://latsia-geri.eu/wp-content/uploads/2025/04/2025-4-12-to-gatanin.jpg
END:VEVENT
END:VCALENDAR